BEGIN:VCALENDAR
VERSION:2.0
PRODID:-//wp-events-plugin.com//7.2.3.1//EN
TZID:America/New_York
X-WR-TIMEZONE:America/New_York
BEGIN:VEVENT
UID:8439@goriverwalk.com
DTSTART;TZID=America/New_York:20191124T173000
DTEND;TZID=America/New_York:20191124T200000
DTSTAMP:20191017T204218Z
URL:https://www.goriverwalk.com/greater-fort-lauderdale-events/serenades-s
 unset-broadway-familiar-classics-vocal-celebration
SUMMARY:Serenades @ Sunset-Broadway & Familiar Classics Vocal Celebration
DESCRIPTION:Limited seating
ATTACH;FMTTYPE=image/jpeg:https://www.goriverwalk.com/wp-content/uploads/2
 019/10/Broadway-Classics-sized.jpg
CATEGORIES:Music
LOCATION:Sonesta Fort Lauderdale Beach\, 999 N. Ft. Lauderdale Beach Blvd.\
 , Fort Lauderdale\, FL\, 33304\, United States
X-APPLE-STRUCTURED-LOCATION;VALUE=URI;X-ADDRESS=999 N. Ft. Lauderdale Beach
  Blvd.\, Fort Lauderdale\, FL\, 33304\, United States;X-APPLE-RADIUS=100;X
 -TITLE=Sonesta Fort Lauderdale Beach:geo:0,0
END:VEVENT
BEGIN:VTIMEZONE
TZID:America/New_York
X-LIC-LOCATION:America/New_York
BEGIN:STANDARD
DTSTART:20191103T010000
TZOFFSETFROM:-0400
TZOFFSETTO:-0500
TZNAME:EST
END:STANDARD
END:VTIMEZONE
END:VCALENDAR