BEGIN:VCALENDAR
VERSION:2.0
PRODID:-//wp-events-plugin.com//7.2.3.1//EN
TZID:America/New_York
X-WR-TIMEZONE:America/New_York
BEGIN:VEVENT
UID:19508@goriverwalk.com
DTSTART;TZID=America/New_York:20240914T093000
DTEND;TZID=America/New_York:20240914T103000
DTSTAMP:20240812T135056Z
URL:https://www.goriverwalk.com/greater-fort-lauderdale-events/sensory-sat
 urday-free-new-sensory-friendly-program
SUMMARY:Sensory Saturday: Free New Sensory-Friendly Program at NSU Art Muse
 um
DESCRIPTION:FREE for children on the Autism Spectrum
ATTACH;FMTTYPE=image/jpeg:https://www.goriverwalk.com/wp-content/uploads/2
 024/08/small-9.14_Sensory-Saturday-Event-Image.jpg
CATEGORIES:Art,Cultural,Free
LOCATION:NSU Art Museum Fort Lauderdale\, 1 East Las Olas Boulevard\, Fort 
 Lauderdale\, FL\, 33301\, United States
GEO:26.1198346;-80.14277179999999
X-APPLE-STRUCTURED-LOCATION;VALUE=URI;X-ADDRESS=1 East Las Olas Boulevard\,
  Fort Lauderdale\, FL\, 33301\, United States;X-APPLE-RADIUS=100;X-TITLE=N
 SU Art Museum Fort Lauderdale:geo:26.1198346,-80.14277179999999
END:VEVENT
BEGIN:VTIMEZONE
TZID:America/New_York
X-LIC-LOCATION:America/New_York
BEGIN:DAYLIGHT
DTSTART:20240310T030000
TZOFFSETFROM:-0500
TZOFFSETTO:-0400
TZNAME:EDT
END:DAYLIGHT
END:VTIMEZONE
END:VCALENDAR