BEGIN:VCALENDAR
VERSION:2.0
PRODID:-//wp-events-plugin.com//7.2.3.1//EN
TZID:America/New_York
X-WR-TIMEZONE:America/New_York
BEGIN:VEVENT
UID:4851@goriverwalk.com
DTSTART;TZID=America/New_York:20180625T110000
DTEND;TZID=America/New_York:20180625T143000
DTSTAMP:20180515T192613Z
URL:https://www.goriverwalk.com/greater-fort-lauderdale-events/senior-plan
 et-classes
SUMMARY:Senior Planet Classes
DESCRIPTION:Free class to teach computer basics to older adults
ATTACH;FMTTYPE=image/jpeg:https://www.goriverwalk.com/wp-content/uploads/2
 017/11/Default-calendar.jpg
CATEGORIES:Education
LOCATION:Citrix\, 851 W. Cypress Creek Road\, Fort Lauderdale\, FL\, 33309\
 , United States
GEO:26.2039173;-80.15393540000002
X-APPLE-STRUCTURED-LOCATION;VALUE=URI;X-ADDRESS=851 W. Cypress Creek Road\,
  Fort Lauderdale\, FL\, 33309\, United States;X-APPLE-RADIUS=100;X-TITLE=C
 itrix:geo:26.2039173,-80.15393540000002
END:VEVENT
BEGIN:VTIMEZONE
TZID:America/New_York
X-LIC-LOCATION:America/New_York
BEGIN:DAYLIGHT
DTSTART:20180311T030000
TZOFFSETFROM:-0500
TZOFFSETTO:-0400
TZNAME:EDT
END:DAYLIGHT
END:VTIMEZONE
END:VCALENDAR