BEGIN:VCALENDAR
VERSION:2.0
PRODID:-//wp-events-plugin.com//7.2.3.1//EN
TZID:America/New_York
X-WR-TIMEZONE:America/New_York
BEGIN:VEVENT
UID:88@goriverwalk.com
DTSTART;TZID=America/New_York:20151122T100000
DTEND;TZID=America/New_York:20151122T150000
DTSTAMP:20151119T190424Z
URL:https://www.goriverwalk.com/greater-fort-lauderdale-events/seminole-ha
 rd-rock-winterfest-boat-parade-family-fun-day
SUMMARY:Seminole Hard Rock Winterfest Boat Parade - Family Fun Day
DESCRIPTION:A fun interactive family event for young and old with lots of 
 activities\, food and a variety of beverages for sale.
CATEGORIES:Holiday
LOCATION:Riverside Hotel Lawn\, 620 East Las Olas Boulevard\, Fort Lauderda
 le\, FL\, United States
GEO:26.1186601;-80.13621419999998
X-APPLE-STRUCTURED-LOCATION;VALUE=URI;X-ADDRESS=620 East Las Olas Boulevard
 \, Fort Lauderdale\, FL\, United States;X-APPLE-RADIUS=100;X-TITLE=Riversi
 de Hotel Lawn:geo:26.1186601,-80.13621419999998
END:VEVENT
BEGIN:VTIMEZONE
TZID:America/New_York
X-LIC-LOCATION:America/New_York
BEGIN:STANDARD
DTSTART:20151101T010000
TZOFFSETFROM:-0400
TZOFFSETTO:-0500
TZNAME:EST
END:STANDARD
END:VTIMEZONE
END:VCALENDAR