BEGIN:VCALENDAR
VERSION:2.0
PRODID:-//wp-events-plugin.com//7.2.3.1//EN
TZID:America/New_York
X-WR-TIMEZONE:America/New_York
BEGIN:VEVENT
UID:18405@goriverwalk.com
DTSTART;TZID=America/New_York:20240224T090000
DTEND;TZID=America/New_York:20240224T150000
DTSTAMP:20240129T191554Z
URL:https://www.goriverwalk.com/greater-fort-lauderdale-events/secret-gard
 en-tour-2
SUMMARY:Secret Garden Tour
DESCRIPTION:Fort Lauderdale Garden Club annual Secret Garden Tour
ATTACH;FMTTYPE=image/jpeg:https://www.goriverwalk.com/wp-content/uploads/2
 024/01/flgc_secret_postcard_front.jpg
CATEGORIES:Community,Hobby,Nature
END:VEVENT
BEGIN:VTIMEZONE
TZID:America/New_York
X-LIC-LOCATION:America/New_York
BEGIN:STANDARD
DTSTART:20231105T010000
TZOFFSETFROM:-0400
TZOFFSETTO:-0500
TZNAME:EST
END:STANDARD
END:VTIMEZONE
END:VCALENDAR