BEGIN:VCALENDAR
VERSION:2.0
PRODID:-//wp-events-plugin.com//7.2.3.1//EN
TZID:America/New_York
X-WR-TIMEZONE:America/New_York
BEGIN:VEVENT
UID:21558@goriverwalk.com
DTSTART;TZID=America/New_York:20251212T183000
DTEND;TZID=America/New_York:20251212T200000
DTSTAMP:20251209T184857Z
URL:https://www.goriverwalk.com/greater-fort-lauderdale-events/scotty-mccr
 eery
SUMMARY:Scotty McCreery
DESCRIPTION:Opening concert by Spencer Crandall
ATTACH;FMTTYPE=image/jpeg:https://www.goriverwalk.com/wp-content/uploads/2
 025/10/Scotty-McCreery.png
CATEGORIES:Music
LOCATION:Pompano Beach Amphitheater\, 1801 NE 6th St\, Pompano Beach\, Flor
 ida\, 33060\, Florida\, United States
X-APPLE-STRUCTURED-LOCATION;VALUE=URI;X-ADDRESS=1801 NE 6th St\, Pompano Be
 ach\, Florida\, 33060\, Florida\, United States;X-APPLE-RADIUS=100;X-TITLE
 =Pompano Beach Amphitheater:geo:0,0
END:VEVENT
BEGIN:VTIMEZONE
TZID:America/New_York
X-LIC-LOCATION:America/New_York
BEGIN:STANDARD
DTSTART:20251102T010000
TZOFFSETFROM:-0400
TZOFFSETTO:-0500
TZNAME:EST
END:STANDARD
END:VTIMEZONE
END:VCALENDAR