BEGIN:VCALENDAR
VERSION:2.0
PRODID:-//wp-events-plugin.com//7.2.3.1//EN
TZID:America/New_York
X-WR-TIMEZONE:America/New_York
BEGIN:VEVENT
UID:8219@goriverwalk.com
DTSTART;TZID=America/New_York:20190923T183000
DTEND;TZID=America/New_York:20190923T213000
DTSTAMP:20190912T182156Z
URL:https://www.goriverwalk.com/greater-fort-lauderdale-events/savor-dinne
 r-series-volume-2
SUMMARY:SAVOR Dinner Series Volume 2
DESCRIPTION:Levantine Hill Wine Dinner
ATTACH;FMTTYPE=image/jpeg:https://www.goriverwalk.com/wp-content/uploads/2
 019/09/Banner-SAVOR.jpg
CATEGORIES:Food
LOCATION:Valentino Cucina Italiana\, 620 S Federal Highway \, Fort Lauderda
 le\, FL \, 33301\, United States
GEO:26.1137746;-80.13689790000001
X-APPLE-STRUCTURED-LOCATION;VALUE=URI;X-ADDRESS=620 S Federal Highway \, Fo
 rt Lauderdale\, FL \, 33301\, United States;X-APPLE-RADIUS=100;X-TITLE=Val
 entino Cucina Italiana:geo:26.1137746,-80.13689790000001
END:VEVENT
BEGIN:VTIMEZONE
TZID:America/New_York
X-LIC-LOCATION:America/New_York
BEGIN:DAYLIGHT
DTSTART:20190310T030000
TZOFFSETFROM:-0500
TZOFFSETTO:-0400
TZNAME:EDT
END:DAYLIGHT
END:VTIMEZONE
END:VCALENDAR