BEGIN:VCALENDAR
VERSION:2.0
PRODID:-//wp-events-plugin.com//7.2.3.1//EN
TZID:America/New_York
X-WR-TIMEZONE:America/New_York
BEGIN:VEVENT
UID:15642@goriverwalk.com
DTSTART;TZID=America/New_York:20221203T100000
DTEND;TZID=America/New_York:20221203T120000
DTSTAMP:20221115T203832Z
URL:https://www.goriverwalk.com/greater-fort-lauderdale-events/santa-paws
SUMMARY:Santa Paws
DESCRIPTION:Get a picture with your pet!
ATTACH;FMTTYPE=image/jpeg:https://www.goriverwalk.com/wp-content/uploads/2
 022/11/SANTA-PAWS.jpg
CATEGORIES:Community,Festival,Holiday
LOCATION:Colohatchee Park\, 1975 NE 15th Ave\, Fort Lauderdale\, Florida\, 
 33305\, United States
GEO:26.152636;-80.12982499999998
X-APPLE-STRUCTURED-LOCATION;VALUE=URI;X-ADDRESS=1975 NE 15th Ave\, Fort Lau
 derdale\, Florida\, 33305\, United States;X-APPLE-RADIUS=100;X-TITLE=Coloh
 atchee Park:geo:26.152636,-80.12982499999998
END:VEVENT
BEGIN:VTIMEZONE
TZID:America/New_York
X-LIC-LOCATION:America/New_York
BEGIN:STANDARD
DTSTART:20221106T010000
TZOFFSETFROM:-0400
TZOFFSETTO:-0500
TZNAME:EST
END:STANDARD
END:VTIMEZONE
END:VCALENDAR