BEGIN:VCALENDAR
VERSION:2.0
PRODID:-//wp-events-plugin.com//7.2.3.1//EN
TZID:America/New_York
X-WR-TIMEZONE:America/New_York
BEGIN:VEVENT
UID:8967@goriverwalk.com
DTSTART;TZID=America/New_York:20191220T000000
DTEND;TZID=America/New_York:20191220T000000
DTSTAMP:20191205T212105Z
URL:https://www.goriverwalk.com/greater-fort-lauderdale-events/santa-on-th
 e-beach-2
SUMMARY:Santa on the Beach
DESCRIPTION:A Fort Lauderdale tradition
ATTACH;FMTTYPE=image/jpeg:https://www.goriverwalk.com/wp-content/uploads/2
 019/12/santa-beach-2019.jpg
CATEGORIES:Community,Holiday
LOCATION:Fort Lauderdale Beach\, 1100 Seabreeze Boulevard\, Fort Lauderdale
 \, Florida\, United States
GEO:26.1090197;-80.10628830000002
X-APPLE-STRUCTURED-LOCATION;VALUE=URI;X-ADDRESS=1100 Seabreeze Boulevard\, 
 Fort Lauderdale\, Florida\, United States;X-APPLE-RADIUS=100;X-TITLE=Fort 
 Lauderdale Beach:geo:26.1090197,-80.10628830000002
END:VEVENT
BEGIN:VTIMEZONE
TZID:America/New_York
X-LIC-LOCATION:America/New_York
BEGIN:STANDARD
DTSTART:20191103T010000
TZOFFSETFROM:-0400
TZOFFSETTO:-0500
TZNAME:EST
END:STANDARD
END:VTIMEZONE
END:VCALENDAR