BEGIN:VCALENDAR
VERSION:2.0
PRODID:-//wp-events-plugin.com//7.2.3.1//EN
TZID:America/New_York
X-WR-TIMEZONE:America/New_York
BEGIN:VEVENT
UID:2349@goriverwalk.com
DTSTART;TZID=America/New_York:20160719T183000
DTEND;TZID=America/New_York:20160719T200000
DTSTAMP:20160523T174126Z
URL:https://www.goriverwalk.com/greater-fort-lauderdale-events/ruth-greens
 pan-mother-of-jason-alexander
SUMMARY:Ruth Greenspan Mother of Jason Alexander
DESCRIPTION:Delight in her vivid sense of humor and ability to tell the sto
 ry of her amazing life...
ATTACH;FMTTYPE=image/jpeg:https://www.goriverwalk.com/wp-content/uploads/2
 016/05/Jason-and-Ruth-Resized-May-12-2016-10-45-AM-320x240-copy.jpg
CATEGORIES:Cultural
LOCATION:Richard C. Sullivan Public Library of Wilton Manors s\, 500 NE 26 
 St.\, \, Wilton Manors\, FLORIDA\, 33305\, Wilton Manors\, United States
GEO:26.1589721;-80.13995990000001
X-APPLE-STRUCTURED-LOCATION;VALUE=URI;X-ADDRESS=500 NE 26 St.\, \, Wilton M
 anors\, FLORIDA\, 33305\, Wilton Manors\, United States;X-APPLE-RADIUS=100
 ;X-TITLE=Richard C. Sullivan Public Library of Wilton Manors s:geo:26.1589
 721,-80.13995990000001
END:VEVENT
BEGIN:VTIMEZONE
TZID:America/New_York
X-LIC-LOCATION:America/New_York
BEGIN:DAYLIGHT
DTSTART:20160313T030000
TZOFFSETFROM:-0500
TZOFFSETTO:-0400
TZNAME:EDT
END:DAYLIGHT
END:VTIMEZONE
END:VCALENDAR