BEGIN:VCALENDAR
VERSION:2.0
PRODID:-//wp-events-plugin.com//7.2.3.1//EN
TZID:America/New_York
X-WR-TIMEZONE:America/New_York
BEGIN:VEVENT
UID:6907@goriverwalk.com
DTSTART;TZID=America/New_York:20190309T070000
DTEND;TZID=America/New_York:20190309T100000
DTSTAMP:20190211T195410Z
URL:https://www.goriverwalk.com/greater-fort-lauderdale-events/run-to-rall
 y-community-5k
SUMMARY:Run to Rally Community 5K
DESCRIPTION:To support a variety of tennis related programs
ATTACH;FMTTYPE=image/jpeg:https://www.goriverwalk.com/wp-content/uploads/2
 019/02/Optimized-IMG_2179.jpg
CATEGORIES:Community,Fundraiser,Health,Sports
LOCATION:Tradewinds Park\, 3600 W. Sample Road\, Coconut Creek\, FL\, 33073
 \, United States
GEO:26.277777;-80.172157
X-APPLE-STRUCTURED-LOCATION;VALUE=URI;X-ADDRESS=3600 W. Sample Road\, Cocon
 ut Creek\, FL\, 33073\, United States;X-APPLE-RADIUS=100;X-TITLE=Tradewind
 s Park:geo:26.277777,-80.172157
END:VEVENT
BEGIN:VTIMEZONE
TZID:America/New_York
X-LIC-LOCATION:America/New_York
BEGIN:STANDARD
DTSTART:20181104T010000
TZOFFSETFROM:-0400
TZOFFSETTO:-0500
TZNAME:EST
END:STANDARD
END:VTIMEZONE
END:VCALENDAR