BEGIN:VCALENDAR
VERSION:2.0
PRODID:-//wp-events-plugin.com//7.2.3.1//EN
TZID:America/New_York
X-WR-TIMEZONE:America/New_York
BEGIN:VEVENT
UID:7021@goriverwalk.com
DTSTART;TZID=America/New_York:20190420T110000
DTEND;TZID=America/New_York:20190420T170000
DTSTAMP:20190228T143139Z
URL:https://www.goriverwalk.com/greater-fort-lauderdale-events/rotary-pira
 te-festival
SUMMARY:Rotary Pirate Festival
DESCRIPTION:Benefiting the scholarship program
ATTACH;FMTTYPE=image/jpeg:https://www.goriverwalk.com/wp-content/uploads/2
 019/02/Pirate-Fest-One-Sided-Postcard-resized-20190227.jpg
CATEGORIES:Community,Festival,Food,Fundraiser,Music
LOCATION:Esplanade Park\, 400 SW 2nd Street\, Fort Lauderdale\, Florida\, 3
 3312\, United States
GEO:26.120046;-80.14795199999998
X-APPLE-STRUCTURED-LOCATION;VALUE=URI;X-ADDRESS=400 SW 2nd Street\, Fort La
 uderdale\, Florida\, 33312\, United States;X-APPLE-RADIUS=100;X-TITLE=Espl
 anade Park:geo:26.120046,-80.14795199999998
END:VEVENT
BEGIN:VTIMEZONE
TZID:America/New_York
X-LIC-LOCATION:America/New_York
BEGIN:DAYLIGHT
DTSTART:20190310T030000
TZOFFSETFROM:-0500
TZOFFSETTO:-0400
TZNAME:EDT
END:DAYLIGHT
END:VTIMEZONE
END:VCALENDAR