BEGIN:VCALENDAR
VERSION:2.0
PRODID:-//wp-events-plugin.com//7.2.3.1//EN
TZID:America/New_York
X-WR-TIMEZONE:America/New_York
BEGIN:VEVENT
UID:4548@goriverwalk.com
DTSTART;TZID=America/New_York:20180427T190000
DTEND;TZID=America/New_York:20180427T210000
DTSTAMP:20180405T180137Z
URL:https://www.goriverwalk.com/greater-fort-lauderdale-events/romeo-julie
 t-la-tormenta
SUMMARY:Romeo & Juliet - La Tormenta
DESCRIPTION:Florida is the backdrop in the adapted script
ATTACH;FMTTYPE=image/jpeg:https://www.goriverwalk.com/wp-content/uploads/2
 018/04/romeo-juliet.jpg
CATEGORIES:Cultural,Theater
LOCATION:NSU Art Museum Fort Lauderdale\, 1 East Las Olas Boulevard\, Fort 
 Lauderdale\, FL\, 33301\, United States
GEO:26.119835;-80.142769
X-APPLE-STRUCTURED-LOCATION;VALUE=URI;X-ADDRESS=1 East Las Olas Boulevard\,
  Fort Lauderdale\, FL\, 33301\, United States;X-APPLE-RADIUS=100;X-TITLE=N
 SU Art Museum Fort Lauderdale:geo:26.119835,-80.142769
END:VEVENT
BEGIN:VTIMEZONE
TZID:America/New_York
X-LIC-LOCATION:America/New_York
BEGIN:DAYLIGHT
DTSTART:20180311T030000
TZOFFSETFROM:-0500
TZOFFSETTO:-0400
TZNAME:EDT
END:DAYLIGHT
END:VTIMEZONE
END:VCALENDAR