BEGIN:VCALENDAR
VERSION:2.0
PRODID:-//wp-events-plugin.com//7.2.3.1//EN
TZID:America/New_York
X-WR-TIMEZONE:America/New_York
BEGIN:VEVENT
UID:8865@goriverwalk.com
DTSTART;TZID=America/New_York:20200223T190000
DTEND;TZID=America/New_York:20200223T220000
DTSTAMP:20191119T175313Z
URL:https://www.goriverwalk.com/greater-fort-lauderdale-events/rod-stewart
SUMMARY:Rod Stewart
DESCRIPTION:Celebrating more than 50 years of hits
ATTACH;FMTTYPE=image/jpeg:https://www.goriverwalk.com/wp-content/uploads/2
 019/11/Rod-Stewart.jpg
CATEGORIES:Music
LOCATION:Seminole Hard Rock Hotel and Casino\, 1 Seminole Way\, Hollywood\,
  FL\, 33314\, United States
GEO:26.0525928;-80.21242110000003
X-APPLE-STRUCTURED-LOCATION;VALUE=URI;X-ADDRESS=1 Seminole Way\, Hollywood\
 , FL\, 33314\, United States;X-APPLE-RADIUS=100;X-TITLE=Seminole Hard Rock
  Hotel and Casino:geo:26.0525928,-80.21242110000003
END:VEVENT
BEGIN:VTIMEZONE
TZID:America/New_York
X-LIC-LOCATION:America/New_York
BEGIN:STANDARD
DTSTART:20191103T010000
TZOFFSETFROM:-0400
TZOFFSETTO:-0500
TZNAME:EST
END:STANDARD
END:VTIMEZONE
END:VCALENDAR