BEGIN:VCALENDAR
VERSION:2.0
PRODID:-//wp-events-plugin.com//7.2.3.1//EN
TZID:America/New_York
X-WR-TIMEZONE:America/New_York
BEGIN:VEVENT
UID:10594@goriverwalk.com
DTSTART;TZID=America/New_York:20210213T180000
DTEND;TZID=America/New_York:20210213T210000
DTSTAMP:20210128T202401Z
URL:https://www.goriverwalk.com/greater-fort-lauderdale-events/riverwalk-v
 oice-2
SUMMARY:Riverwalk Voice 2
DESCRIPTION:Round 2 of Riverwalk's singing competition
ATTACH;FMTTYPE=image/jpeg:https://www.goriverwalk.com/wp-content/uploads/2
 021/01/Voice2-Logo-1.jpg
CATEGORIES:Fundraiser,Music,Riverwalk Front Page,Riverwalk Happenings
LOCATION:The Downtowner\, 10 S. New River Drive East\, Fort Lauderdale\, FL
 \, 33301\, Southeast\, United States
GEO:26.1173377;-80.1430335
X-APPLE-STRUCTURED-LOCATION;VALUE=URI;X-ADDRESS=10 S. New River Drive East\
 , Fort Lauderdale\, FL\, 33301\, Southeast\, United States;X-APPLE-RADIUS=
 100;X-TITLE=The Downtowner:geo:26.1173377,-80.1430335
END:VEVENT
BEGIN:VTIMEZONE
TZID:America/New_York
X-LIC-LOCATION:America/New_York
BEGIN:STANDARD
DTSTART:20201101T010000
TZOFFSETFROM:-0400
TZOFFSETTO:-0500
TZNAME:EST
END:STANDARD
END:VTIMEZONE
END:VCALENDAR