BEGIN:VCALENDAR
VERSION:2.0
PRODID:-//wp-events-plugin.com//7.2.3.1//EN
TZID:America/New_York
X-WR-TIMEZONE:America/New_York
BEGIN:VEVENT
UID:1415@goriverwalk.com
DTSTART;TZID=America/New_York:20160220T054500
DTEND;TZID=America/New_York:20160220T110000
DTSTAMP:20160121T171549Z
URL:https://www.goriverwalk.com/greater-fort-lauderdale-events/riverwalk-r
 un-2016
SUMMARY:Riverwalk Run 2016
DESCRIPTION:All proceeds support the Junior League of Greater Fort Lauderda
 le’s current projects.
ATTACH;FMTTYPE=image/jpeg:https://www.goriverwalk.com/wp-content/uploads/2
 015/12/Default-calendar-1.jpg
CATEGORIES:Health
LOCATION:Huizenga Plaza\, 32 East Las Olas Boulevard\, Fort Lauderdale\, FL
 \, 33301\, United States
X-APPLE-STRUCTURED-LOCATION;VALUE=URI;X-ADDRESS=32 East Las Olas Boulevard\
 , Fort Lauderdale\, FL\, 33301\, United States;X-APPLE-RADIUS=100;X-TITLE=
 Huizenga Plaza:geo:0,0
END:VEVENT
BEGIN:VTIMEZONE
TZID:America/New_York
X-LIC-LOCATION:America/New_York
BEGIN:STANDARD
DTSTART:20151101T010000
TZOFFSETFROM:-0400
TZOFFSETTO:-0500
TZNAME:EST
END:STANDARD
END:VTIMEZONE
END:VCALENDAR