BEGIN:VCALENDAR
VERSION:2.0
PRODID:-//wp-events-plugin.com//7.2.3.1//EN
TZID:America/New_York
X-WR-TIMEZONE:America/New_York
BEGIN:VEVENT
UID:2@goriverwalk.com
DTSTART;TZID=America/New_York:20151119T170000
DTEND;TZID=America/New_York:20151119T200000
DTSTAMP:20151115T220219Z
URL:https://www.goriverwalk.com/greater-fort-lauderdale-events/riverwalk-f
 all-get-downtown
SUMMARY:Riverwalk Fall Get Downtown
DESCRIPTION:Join us for Riverwalk's Fall Get Downtown presented by Naked Ju
 ice\, Fort Lauderdale’s largest outdoor cocktail hour\, returning on Thu
 rsday\, November 19\, 2015 from 5-8pm. Click the image or title for more i
 nformation.
ATTACH;FMTTYPE=image/jpeg:https://www.goriverwalk.com/wp-content/uploads/2
 015/04/GDTLogo600x600.jpg
CATEGORIES:Riverwalk Front Page,Riverwalk Happenings
LOCATION:YOLO Plaza\, 333 E Las Olas Blvd\, Fort Lauderdale\, FL\, 33301\, 
 United States
GEO:26.1196495;-80.13969889999998
X-APPLE-STRUCTURED-LOCATION;VALUE=URI;X-ADDRESS=333 E Las Olas Blvd\, Fort 
 Lauderdale\, FL\, 33301\, United States;X-APPLE-RADIUS=100;X-TITLE=YOLO Pl
 aza:geo:26.1196495,-80.13969889999998
END:VEVENT
BEGIN:VTIMEZONE
TZID:America/New_York
X-LIC-LOCATION:America/New_York
BEGIN:STANDARD
DTSTART:20151101T010000
TZOFFSETFROM:-0400
TZOFFSETTO:-0500
TZNAME:EST
END:STANDARD
END:VTIMEZONE
END:VCALENDAR