BEGIN:VCALENDAR
VERSION:2.0
PRODID:-//wp-events-plugin.com//7.2.3.1//EN
TZID:America/New_York
X-WR-TIMEZONE:America/New_York
BEGIN:VEVENT
UID:19543@goriverwalk.com
DTSTART;TZID=America/New_York:20241012T120000
DTEND;TZID=America/New_York:20241012T160000
DTSTAMP:20241008T204905Z
URL:https://www.goriverwalk.com/greater-fort-lauderdale-events/riverwalk-f
 all-festival-3
SUMMARY:Riverwalk Fall Festival
DESCRIPTION:Riverwalk's annual celebration of all things fall!\n
ATTACH;FMTTYPE=image/jpeg:https://www.goriverwalk.com/wp-content/uploads/2
 024/08/FLYER-R5-Fall-Fest-10.12.24.jpg
CATEGORIES:Children,Community,Food,Free,Music,Riverwalk Front
 Page,Riverwalk Happenings
LOCATION:Esplande Park\, 400 SW 2nd St\, Fort Lauderdale\, FL\, 33301\, Uni
 ted States
X-APPLE-STRUCTURED-LOCATION;VALUE=URI;X-ADDRESS=400 SW 2nd St\, Fort Lauder
 dale\, FL\, 33301\, United States;X-APPLE-RADIUS=100;X-TITLE=Esplande Park
 :geo:0,0
END:VEVENT
BEGIN:VTIMEZONE
TZID:America/New_York
X-LIC-LOCATION:America/New_York
BEGIN:DAYLIGHT
DTSTART:20240310T030000
TZOFFSETFROM:-0500
TZOFFSETTO:-0400
TZNAME:EDT
END:DAYLIGHT
END:VTIMEZONE
END:VCALENDAR