BEGIN:VCALENDAR
VERSION:2.0
PRODID:-//wp-events-plugin.com//7.2.3.1//EN
TZID:America/New_York
X-WR-TIMEZONE:America/New_York
BEGIN:VEVENT
UID:6458@goriverwalk.com
DTSTART;TZID=America/New_York:20190223T120000
DTEND;TZID=America/New_York:20190223T160000
DTSTAMP:20190219T221119Z
URL:https://www.goriverwalk.com/greater-fort-lauderdale-events/riverwalk-c
 hili-cook-off-4
SUMMARY:Riverwalk Chili Cook-Off
DESCRIPTION:Enjoy chili and charity on Saturday\, February 23rd at the annu
 al Riverwalk Chili Cook-Off at Esplanade Park! Click here for more detai
 ls.
ATTACH;FMTTYPE=image/jpeg:https://www.goriverwalk.com/wp-content/uploads/2
 018/12/Chili-Cook-Off-LOGO.jpg
CATEGORIES:Community,Festival,Food,Fundraiser,Riverwalk Front
 Page,Riverwalk Happenings
LOCATION:Esplanade Park\, 400 SW 2nd Street\, Fort Lauderdale\, Florida\, 3
 3312\, United States
GEO:26.120046;-80.14795199999998
X-APPLE-STRUCTURED-LOCATION;VALUE=URI;X-ADDRESS=400 SW 2nd Street\, Fort La
 uderdale\, Florida\, 33312\, United States;X-APPLE-RADIUS=100;X-TITLE=Espl
 anade Park:geo:26.120046,-80.14795199999998
END:VEVENT
BEGIN:VTIMEZONE
TZID:America/New_York
X-LIC-LOCATION:America/New_York
BEGIN:STANDARD
DTSTART:20181104T010000
TZOFFSETFROM:-0400
TZOFFSETTO:-0500
TZNAME:EST
END:STANDARD
END:VTIMEZONE
END:VCALENDAR