BEGIN:VCALENDAR
VERSION:2.0
PRODID:-//wp-events-plugin.com//7.2.3.1//EN
TZID:America/New_York
X-WR-TIMEZONE:America/New_York
BEGIN:VEVENT
UID:3037@goriverwalk.com
DTSTART;TZID=America/New_York:20170128T180000
DTEND;TZID=America/New_York:20170128T220000
DTSTAMP:20170127T181819Z
URL:https://www.goriverwalk.com/greater-fort-lauderdale-events/ritual-and-
 repetition
SUMMARY:"Ritual and Repetition"
DESCRIPTION:Artist Stephanie Cunningham
ATTACH;FMTTYPE=image/jpeg:https://www.goriverwalk.com/wp-content/uploads/2
 017/01/Screen-Shot-2017-01-20-at-2.04.19-PM.png
CATEGORIES:Art
LOCATION:FAR Gallery\, 521 NW 1st Ave\, Fort Lauderdale\, FL\, 33301\, Unit
 ed States
GEO:26.1283443;-80.14480249999997
X-APPLE-STRUCTURED-LOCATION;VALUE=URI;X-ADDRESS=521 NW 1st Ave\, Fort Laude
 rdale\, FL\, 33301\, United States;X-APPLE-RADIUS=100;X-TITLE=FAR Gallery:
 geo:26.1283443,-80.14480249999997
END:VEVENT
BEGIN:VTIMEZONE
TZID:America/New_York
X-LIC-LOCATION:America/New_York
BEGIN:STANDARD
DTSTART:20161106T010000
TZOFFSETFROM:-0400
TZOFFSETTO:-0500
TZNAME:EST
END:STANDARD
END:VTIMEZONE
END:VCALENDAR