BEGIN:VCALENDAR
VERSION:2.0
PRODID:-//wp-events-plugin.com//7.2.3.1//EN
TZID:America/New_York
X-WR-TIMEZONE:America/New_York
BEGIN:VEVENT
UID:17677@goriverwalk.com
DTSTART;TZID=America/New_York:20231202T000000
DTEND;TZID=America/New_York:20231203T000000
DTSTAMP:20231011T195254Z
URL:https://www.goriverwalk.com/greater-fort-lauderdale-events/riptide-mus
 ic-festival-8
SUMMARY:Riptide Music Festival
DESCRIPTION:With headliners the Black Keys and Jelly Roll
ATTACH;FMTTYPE=image/jpeg:https://www.goriverwalk.com/wp-content/uploads/2
 023/10/riptide-sq-e1697053744943.png
CATEGORIES:Festival,Music
LOCATION:Fort Lauderdale Beach Park\, 1000 Seabreeze Boulevard\, Fort Laude
 rdale\, Florida\, 33316\, United States
GEO:26.110613;-80.10585200000003
X-APPLE-STRUCTURED-LOCATION;VALUE=URI;X-ADDRESS=1000 Seabreeze Boulevard\, 
 Fort Lauderdale\, Florida\, 33316\, United States;X-APPLE-RADIUS=100;X-TIT
 LE=Fort Lauderdale Beach Park:geo:26.110613,-80.10585200000003
END:VEVENT
BEGIN:VTIMEZONE
TZID:America/New_York
X-LIC-LOCATION:America/New_York
BEGIN:STANDARD
DTSTART:20231105T010000
TZOFFSETFROM:-0400
TZOFFSETTO:-0500
TZNAME:EST
END:STANDARD
END:VTIMEZONE
END:VCALENDAR