BEGIN:VCALENDAR
VERSION:2.0
PRODID:-//wp-events-plugin.com//7.2.3.1//EN
TZID:America/New_York
X-WR-TIMEZONE:America/New_York
BEGIN:VEVENT
UID:3449@goriverwalk.com
DTSTART;TZID=America/New_York:20171108T194500
DTEND;TZID=America/New_York:20171108T220000
DTSTAMP:20170815T171236Z
URL:https://www.goriverwalk.com/greater-fort-lauderdale-events/rim-shots-a
 n-evening-with-the-jeff-hamilton-trio
SUMMARY:Rim Shots: An Evening with the Jeff Hamilton Trio
DESCRIPTION:Jeff Hamilton\, Tamir Hendelman and Christoph Luty comprise the
  Jeff Hamilton Trio.
ATTACH;FMTTYPE=image/jpeg:https://www.goriverwalk.com/wp-content/uploads/2
 017/08/JeffHamilton_Trio-2-700x700.jpg
CATEGORIES:Music
LOCATION:Broward Center for the Performing Arts\, 201 SW 5th Avenue\, Fort 
 Lauderdale\, Florida\, 33312\, United States
GEO:26.119873;-80.149269
X-APPLE-STRUCTURED-LOCATION;VALUE=URI;X-ADDRESS=201 SW 5th Avenue\, Fort La
 uderdale\, Florida\, 33312\, United States;X-APPLE-RADIUS=100;X-TITLE=Brow
 ard Center for the Performing Arts:geo:26.119873,-80.149269
END:VEVENT
BEGIN:VTIMEZONE
TZID:America/New_York
X-LIC-LOCATION:America/New_York
BEGIN:STANDARD
DTSTART:20171105T010000
TZOFFSETFROM:-0400
TZOFFSETTO:-0500
TZNAME:EST
END:STANDARD
END:VTIMEZONE
END:VCALENDAR