BEGIN:VCALENDAR
VERSION:2.0
PRODID:-//wp-events-plugin.com//7.2.3.1//EN
TZID:America/New_York
X-WR-TIMEZONE:America/New_York
BEGIN:VEVENT
UID:7267@goriverwalk.com
DTSTART;TZID=America/New_York:20190427T110000
DTEND;TZID=America/New_York:20190427T150000
DTSTAMP:20190419T153014Z
URL:https://www.goriverwalk.com/greater-fort-lauderdale-events/ride-play-d
 ay
SUMMARY:Ride & Play Day
DESCRIPTION:Fun for the whole family
ATTACH;FMTTYPE=image/jpeg:https://www.goriverwalk.com/wp-content/uploads/2
 019/04/tri-rail.jpg
CATEGORIES:Community
END:VEVENT
BEGIN:VTIMEZONE
TZID:America/New_York
X-LIC-LOCATION:America/New_York
BEGIN:DAYLIGHT
DTSTART:20190310T030000
TZOFFSETFROM:-0500
TZOFFSETTO:-0400
TZNAME:EDT
END:DAYLIGHT
END:VTIMEZONE
END:VCALENDAR