BEGIN:VCALENDAR
VERSION:2.0
PRODID:-//wp-events-plugin.com//7.2.3.1//EN
TZID:America/New_York
X-WR-TIMEZONE:America/New_York
BEGIN:VEVENT
UID:6138@goriverwalk.com
DTSTART;TZID=America/New_York:20181107T090000
DTEND;TZID=America/New_York:20181107T090000
DTSTAMP:20181030T181849Z
URL:https://www.goriverwalk.com/greater-fort-lauderdale-events/ribbon-cutt
 ing-celebration-for-art-mural-installed-on-riverwalk-ae-garage
SUMMARY:Ribbon Cutting Celebration for Art Mural Installed on Riverwalk A&E
  Garage
DESCRIPTION:See the new and beautiful mural
ATTACH;FMTTYPE=image/jpeg:https://www.goriverwalk.com/wp-content/uploads/2
 018/10/ae-garage-mural.png
CATEGORIES:Art
LOCATION:Broward Center for the Performing Arts\, 201 SW 5th Avenue\, Fort 
 Lauderdale\, Florida\, 33312\, United States
GEO:26.119873;-80.149269
X-APPLE-STRUCTURED-LOCATION;VALUE=URI;X-ADDRESS=201 SW 5th Avenue\, Fort La
 uderdale\, Florida\, 33312\, United States;X-APPLE-RADIUS=100;X-TITLE=Brow
 ard Center for the Performing Arts:geo:26.119873,-80.149269
END:VEVENT
BEGIN:VTIMEZONE
TZID:America/New_York
X-LIC-LOCATION:America/New_York
BEGIN:STANDARD
DTSTART:20181104T010000
TZOFFSETFROM:-0400
TZOFFSETTO:-0500
TZNAME:EST
END:STANDARD
END:VTIMEZONE
END:VCALENDAR