BEGIN:VCALENDAR
VERSION:2.0
PRODID:-//wp-events-plugin.com//7.2.3.1//EN
TZID:America/New_York
X-WR-TIMEZONE:America/New_York
BEGIN:VEVENT
UID:18275@goriverwalk.com
DTSTART;TZID=America/New_York:20240113T090000
DTEND;TZID=America/New_York:20240113T090000
DTSTAMP:20231130T192447Z
URL:https://www.goriverwalk.com/greater-fort-lauderdale-events/reimagining
 -city-hall-2
SUMMARY:Reimagining City Hall
DESCRIPTION:Join the City of Fort Lauderdale to share your input on what yo
 u want to see in a new City Hall.
ATTACH;FMTTYPE=image/jpeg:https://www.goriverwalk.com/wp-content/uploads/2
 023/11/8494-Reimagining-City-Hall_1080.jpg
CATEGORIES:Community
LOCATION:L.A. Lee YMCA/Mizell Community Center\, 1409 Northwest 6th Street\
 , Fort Lauderdale\, FL\, 33311\, United States
X-APPLE-STRUCTURED-LOCATION;VALUE=URI;X-ADDRESS=1409 Northwest 6th Street\,
  Fort Lauderdale\, FL\, 33311\, United States;X-APPLE-RADIUS=100;X-TITLE=L
 .A. Lee YMCA/Mizell Community Center:geo:0,0
END:VEVENT
BEGIN:VTIMEZONE
TZID:America/New_York
X-LIC-LOCATION:America/New_York
BEGIN:STANDARD
DTSTART:20231105T010000
TZOFFSETFROM:-0400
TZOFFSETTO:-0500
TZNAME:EST
END:STANDARD
END:VTIMEZONE
END:VCALENDAR