BEGIN:VCALENDAR
VERSION:2.0
PRODID:-//wp-events-plugin.com//7.2.3.1//EN
TZID:America/New_York
X-WR-TIMEZONE:America/New_York
BEGIN:VEVENT
UID:9901@goriverwalk.com
DTSTART;TZID=America/New_York:20200702T193000
DTEND;TZID=America/New_York:20200704T213000
DTSTAMP:20200629T155540Z
URL:https://www.goriverwalk.com/greater-fort-lauderdale-events/red-white-m
 oonlight-cruises
SUMMARY:Red\, White & Moonlight Cruises
DESCRIPTION:Cocktails and a Cruise
ATTACH;FMTTYPE=image/jpeg:https://www.goriverwalk.com/wp-content/uploads/2
 020/06/Moonlight-insta-01.jpg
CATEGORIES:Cocktail
LOCATION:Stop 1: Riverside Hotel/Stranahan House\, 335 SE 6th Ave\, Fort La
 udedale\, Florida\, 33301\, United States
X-APPLE-STRUCTURED-LOCATION;VALUE=URI;X-ADDRESS=335 SE 6th Ave\, Fort Laude
 dale\, Florida\, 33301\, United States;X-APPLE-RADIUS=100;X-TITLE=Stop 1: 
 Riverside Hotel/Stranahan House:geo:0,0
END:VEVENT
BEGIN:VTIMEZONE
TZID:America/New_York
X-LIC-LOCATION:America/New_York
BEGIN:DAYLIGHT
DTSTART:20200308T030000
TZOFFSETFROM:-0500
TZOFFSETTO:-0400
TZNAME:EDT
END:DAYLIGHT
END:VTIMEZONE
END:VCALENDAR