BEGIN:VCALENDAR
VERSION:2.0
PRODID:-//wp-events-plugin.com//7.2.3.1//EN
TZID:America/New_York
X-WR-TIMEZONE:America/New_York
BEGIN:VEVENT
UID:8196@goriverwalk.com
DTSTART;TZID=America/New_York:20191115T190000
DTEND;TZID=America/New_York:20191115T230000
DTSTAMP:20190909T190635Z
URL:https://www.goriverwalk.com/greater-fort-lauderdale-events/recycled-fa
 shion-show
SUMMARY:Recycled Fashion Show
DESCRIPTION:Artists Restyled
ATTACH;FMTTYPE=image/jpeg:https://www.goriverwalk.com/wp-content/uploads/2
 019/09/recycled-fashion.jpg
CATEGORIES:Art,Community,Fundraiser
LOCATION:Young At Art Museum\, 751 S.W. 121 Ave. \, Davie\, FL\, 33325\, Un
 ited States
GEO:26.1126653;-80.31130009999998
X-APPLE-STRUCTURED-LOCATION;VALUE=URI;X-ADDRESS=751 S.W. 121 Ave. \, Davie\
 , FL\, 33325\, United States;X-APPLE-RADIUS=100;X-TITLE=Young At Art Museu
 m:geo:26.1126653,-80.31130009999998
END:VEVENT
BEGIN:VTIMEZONE
TZID:America/New_York
X-LIC-LOCATION:America/New_York
BEGIN:STANDARD
DTSTART:20191103T010000
TZOFFSETFROM:-0400
TZOFFSETTO:-0500
TZNAME:EST
END:STANDARD
END:VTIMEZONE
END:VCALENDAR