BEGIN:VCALENDAR
VERSION:2.0
PRODID:-//wp-events-plugin.com//7.2.3.1//EN
TZID:America/New_York
X-WR-TIMEZONE:America/New_York
BEGIN:VEVENT
UID:5368@goriverwalk.com
DTSTART;TZID=America/New_York:20180803T103000
DTEND;TZID=America/New_York:20180803T124500
DTSTAMP:20180725T123303Z
URL:https://www.goriverwalk.com/greater-fort-lauderdale-events/real-estate
 -roundtable-state-of-the-market
SUMMARY:Real Estate Roundtable & State of the Market
DESCRIPTION:Answering all your real estate questions
ATTACH;FMTTYPE=image/jpeg:https://www.goriverwalk.com/wp-content/uploads/2
 017/11/Default-calendar.jpg
CATEGORIES:Business
LOCATION:Conrad Fort Lauderdale Beach\, 551 N. Fort Lauderdale beach Blvd.\
 , Fort Lauderdale\, FL\, 33304\, United States
GEO:26.130955;-80.10454299999998
X-APPLE-STRUCTURED-LOCATION;VALUE=URI;X-ADDRESS=551 N. Fort Lauderdale beac
 h Blvd.\, Fort Lauderdale\, FL\, 33304\, United States;X-APPLE-RADIUS=100;
 X-TITLE=Conrad Fort Lauderdale Beach:geo:26.130955,-80.10454299999998
END:VEVENT
BEGIN:VTIMEZONE
TZID:America/New_York
X-LIC-LOCATION:America/New_York
BEGIN:DAYLIGHT
DTSTART:20180311T030000
TZOFFSETFROM:-0500
TZOFFSETTO:-0400
TZNAME:EDT
END:DAYLIGHT
END:VTIMEZONE
END:VCALENDAR