BEGIN:VCALENDAR
VERSION:2.0
PRODID:-//wp-events-plugin.com//7.2.3.1//EN
TZID:America/New_York
X-WR-TIMEZONE:America/New_York
BEGIN:VEVENT
UID:17245@goriverwalk.com
DTSTART;TZID=America/New_York:20240120T120000
DTEND;TZID=America/New_York:20240120T160000
DTSTAMP:20231227T150254Z
URL:https://www.goriverwalk.com/greater-fort-lauderdale-events/rb-vii
SUMMARY:Riverwalk Rhythm & Brews presented by Funky Buddha
DESCRIPTION:Cold Brews\, Food Trucks\, Lawn Games and live music by The Joe
 y Calderaio Band.
ATTACH;FMTTYPE=image/jpeg:https://www.goriverwalk.com/wp-content/uploads/2
 023/08/FBB_Riverwalk_IG_1080x1080.jpg
CATEGORIES:Community,Festival,Food,Music,Riverwalk Front Page,Riverwalk
 Happenings
LOCATION:Esplanade Park\, 400 SW 2nd Street\, Fort Lauderdale\, Florida\, 3
 3312\, United States
GEO:26.120046;-80.14795199999998
X-APPLE-STRUCTURED-LOCATION;VALUE=URI;X-ADDRESS=400 SW 2nd Street\, Fort La
 uderdale\, Florida\, 33312\, United States;X-APPLE-RADIUS=100;X-TITLE=Espl
 anade Park:geo:26.120046,-80.14795199999998
END:VEVENT
BEGIN:VTIMEZONE
TZID:America/New_York
X-LIC-LOCATION:America/New_York
BEGIN:STANDARD
DTSTART:20231105T010000
TZOFFSETFROM:-0400
TZOFFSETTO:-0500
TZNAME:EST
END:STANDARD
END:VTIMEZONE
END:VCALENDAR