BEGIN:VCALENDAR
VERSION:2.0
PRODID:-//wp-events-plugin.com//7.2.3.1//EN
TZID:America/New_York
X-WR-TIMEZONE:America/New_York
BEGIN:VEVENT
UID:7278@goriverwalk.com
DTSTART;TZID=America/New_York:20190510T183000
DTEND;TZID=America/New_York:20190510T203000
DTSTAMP:20190422T145632Z
URL:https://www.goriverwalk.com/greater-fort-lauderdale-events/ramblin-man
 -a-global-sonic-experience
SUMMARY:Ramblin' Man | A Global Sonic Experience
DESCRIPTION:A fundraiser for Gilda's Club
ATTACH;FMTTYPE=image/jpeg:https://www.goriverwalk.com/wp-content/uploads/2
 019/04/Screen-Shot-2019-04-19-at-4.16.54-PM.png
CATEGORIES:Community,Cultural,Festival,Film
LOCATION:Savor Cinema\, 503 Southeast 6th Street  \, Fort Lauderdale\, FL\,
  33301\, United States
GEO:26.115168;-80.138306
X-APPLE-STRUCTURED-LOCATION;VALUE=URI;X-ADDRESS=503 Southeast 6th Street  \
 , Fort Lauderdale\, FL\, 33301\, United States;X-APPLE-RADIUS=100;X-TITLE=
 Savor Cinema:geo:26.115168,-80.138306
END:VEVENT
BEGIN:VTIMEZONE
TZID:America/New_York
X-LIC-LOCATION:America/New_York
BEGIN:DAYLIGHT
DTSTART:20190310T030000
TZOFFSETFROM:-0500
TZOFFSETTO:-0400
TZNAME:EDT
END:DAYLIGHT
END:VTIMEZONE
END:VCALENDAR