BEGIN:VCALENDAR
VERSION:2.0
PRODID:-//wp-events-plugin.com//7.2.3.1//EN
TZID:America/New_York
X-WR-TIMEZONE:America/New_York
BEGIN:VEVENT
UID:16192@goriverwalk.com
DTSTART;TZID=America/New_York:20230204T110000
DTEND;TZID=America/New_York:20230204T150000
DTSTAMP:20230117T173035Z
URL:https://www.goriverwalk.com/greater-fort-lauderdale-events/rail-fun-da
 y-2
SUMMARY:Rail Fun Day
DESCRIPTION:Fun for the whole family
ATTACH;FMTTYPE=image/jpeg:https://www.goriverwalk.com/wp-content/uploads/2
 023/01/TRI-RAIL.jpg
CATEGORIES:Children,Community,Education,Festival,Food,Hobby,Music
LOCATION:Fort Lauderdale/Hollywood International Airport Station at Dania B
 each\, 500 Gulf Stream Way\, Dania Beach\, Florida\, 33004\, United States
X-APPLE-STRUCTURED-LOCATION;VALUE=URI;X-ADDRESS=500 Gulf Stream Way\, Dania
  Beach\, Florida\, 33004\, United States;X-APPLE-RADIUS=100;X-TITLE=Fort L
 auderdale/Hollywood International Airport Station at Dania Beach:geo:0,0
END:VEVENT
BEGIN:VTIMEZONE
TZID:America/New_York
X-LIC-LOCATION:America/New_York
BEGIN:STANDARD
DTSTART:20221106T010000
TZOFFSETFROM:-0400
TZOFFSETTO:-0500
TZNAME:EST
END:STANDARD
END:VTIMEZONE
END:VCALENDAR