BEGIN:VCALENDAR
VERSION:2.0
PRODID:-//wp-events-plugin.com//7.2.3.1//EN
TZID:America/New_York
X-WR-TIMEZONE:America/New_York
BEGIN:VEVENT
UID:13742@goriverwalk.com
DTSTART;TZID=America/New_York:20220316T190000
DTEND;TZID=America/New_York:20220318T220000
DTSTAMP:20220228T200343Z
URL:https://www.goriverwalk.com/greater-fort-lauderdale-events/puriumfest-
 2022
SUMMARY:PurimFest 2022
DESCRIPTION:Get Your Shushan On!
ATTACH;FMTTYPE=image/jpeg:https://www.goriverwalk.com/wp-content/uploads/2
 022/02/PurimFest-2022-Calendar-and-Press-Creative-700-×-700-px-1.png
CATEGORIES:Education
END:VEVENT
BEGIN:VTIMEZONE
TZID:America/New_York
X-LIC-LOCATION:America/New_York
BEGIN:DAYLIGHT
DTSTART:20220313T030000
TZOFFSETFROM:-0500
TZOFFSETTO:-0400
TZNAME:EDT
END:DAYLIGHT
END:VTIMEZONE
END:VCALENDAR