BEGIN:VCALENDAR
VERSION:2.0
PRODID:-//wp-events-plugin.com//7.2.3.1//EN
TZID:America/New_York
X-WR-TIMEZONE:America/New_York
BEGIN:VEVENT
UID:7438@goriverwalk.com
DTSTART;TZID=America/New_York:20190522T180000
DTEND;TZID=America/New_York:20190522T200000
DTSTAMP:20190521T160310Z
URL:https://www.goriverwalk.com/greater-fort-lauderdale-events/public-meet
 ing-a1a-streetscape-project
SUMMARY:PUBLIC MEETING:  A1A Streetscape Project
DESCRIPTION:See what's in store!
ATTACH;FMTTYPE=image/jpeg:https://www.goriverwalk.com/wp-content/uploads/2
 010/07/city_logo_gold_circle_square_180x180.jpg
CATEGORIES:Business,Community
LOCATION:Sonesta Fort Lauderdale Beach\, 999 Fort Lauderdale Beach Boulevar
 d\, Fort Lauderdale\, FL\, United States
GEO:26.1375225;-80.10357590000001
X-APPLE-STRUCTURED-LOCATION;VALUE=URI;X-ADDRESS=999 Fort Lauderdale Beach B
 oulevard\, Fort Lauderdale\, FL\, United States;X-APPLE-RADIUS=100;X-TITLE
 =Sonesta Fort Lauderdale Beach:geo:26.1375225,-80.10357590000001
END:VEVENT
BEGIN:VTIMEZONE
TZID:America/New_York
X-LIC-LOCATION:America/New_York
BEGIN:DAYLIGHT
DTSTART:20190310T030000
TZOFFSETFROM:-0500
TZOFFSETTO:-0400
TZNAME:EDT
END:DAYLIGHT
END:VTIMEZONE
END:VCALENDAR