BEGIN:VCALENDAR
VERSION:2.0
PRODID:-//wp-events-plugin.com//7.2.3.1//EN
TZID:America/New_York
X-WR-TIMEZONE:America/New_York
BEGIN:VEVENT
UID:8465@goriverwalk.com
DTSTART;TZID=America/New_York:20191025T000000
DTEND;TZID=America/New_York:20191115T000000
DTSTAMP:20191021T181434Z
URL:https://www.goriverwalk.com/greater-fort-lauderdale-events/professiona
 l-headshots-at-stranahan-house
SUMMARY:Professional Headshots at Stranahan House
DESCRIPTION:Update your files
CATEGORIES:Business
LOCATION:Historic Stranahan House Museum\, 335 SE 6th Ave\, Fort Lauderdale
 \, FL\, 33304\, FL\, United States
X-APPLE-STRUCTURED-LOCATION;VALUE=URI;X-ADDRESS=335 SE 6th Ave\, Fort Laude
 rdale\, FL\, 33304\, FL\, United States;X-APPLE-RADIUS=100;X-TITLE=Histori
 c Stranahan House Museum:geo:0,0
END:VEVENT
BEGIN:VTIMEZONE
TZID:America/New_York
X-LIC-LOCATION:America/New_York
BEGIN:DAYLIGHT
DTSTART:20190310T030000
TZOFFSETFROM:-0500
TZOFFSETTO:-0400
TZNAME:EDT
END:DAYLIGHT
BEGIN:STANDARD
DTSTART:20191103T010000
TZOFFSETFROM:-0400
TZOFFSETTO:-0500
TZNAME:EST
END:STANDARD
END:VTIMEZONE
END:VCALENDAR