BEGIN:VCALENDAR
VERSION:2.0
PRODID:-//wp-events-plugin.com//7.2.3.1//EN
TZID:America/New_York
X-WR-TIMEZONE:America/New_York
BEGIN:VEVENT
UID:7499@goriverwalk.com
DTSTART;TZID=America/New_York:20190629T093000
DTEND;TZID=America/New_York:20190629T130000
DTSTAMP:20190612T151750Z
URL:https://www.goriverwalk.com/greater-fort-lauderdale-events/pride-shabb
 at-temple-sinai-of-hollywood
SUMMARY:Pride Shabbat: Temple Sinai of Hollywood
DESCRIPTION:Celebrating Gay Pride Month
ATTACH;FMTTYPE=image/jpeg:https://www.goriverwalk.com/wp-content/uploads/2
 019/06/prideshabbat062919-1.jpg
CATEGORIES:Cultural
LOCATION:Temple Sinai of Hollywood\, 1400 N 46th Ave\, Hollywood\, fl\, 330
 21\, United States
GEO:26.0229051;-80.19003470000001
X-APPLE-STRUCTURED-LOCATION;VALUE=URI;X-ADDRESS=1400 N 46th Ave\, Hollywood
 \, fl\, 33021\, United States;X-APPLE-RADIUS=100;X-TITLE=Temple Sinai of H
 ollywood:geo:26.0229051,-80.19003470000001
END:VEVENT
BEGIN:VTIMEZONE
TZID:America/New_York
X-LIC-LOCATION:America/New_York
BEGIN:DAYLIGHT
DTSTART:20190310T030000
TZOFFSETFROM:-0500
TZOFFSETTO:-0400
TZNAME:EDT
END:DAYLIGHT
END:VTIMEZONE
END:VCALENDAR