BEGIN:VCALENDAR
VERSION:2.0
PRODID:-//wp-events-plugin.com//7.2.3.1//EN
TZID:America/New_York
X-WR-TIMEZONE:America/New_York
BEGIN:VEVENT
UID:4076@goriverwalk.com
DTSTART;TZID=America/New_York:20180211T120000
DTEND;TZID=America/New_York:20180211T200000
DTSTAMP:20180119T135454Z
URL:https://www.goriverwalk.com/greater-fort-lauderdale-events/pride-fort-
 lauderdale
SUMMARY:Pride Fort Lauderdale
DESCRIPTION:2018 will bring our most diverse and inclusive Pride ever
ATTACH;FMTTYPE=image/jpeg:https://www.goriverwalk.com/wp-content/uploads/2
 018/01/Pride-FtLauderdale-Logo.jpg
CATEGORIES:Community,Festival
LOCATION:Fort Lauderdale Beach Park\, 1000 Seabreeze Boulevard\, Fort Laude
 rdale\, Florida\, 33316\, United States
GEO:26.110613;-80.10585200000003
X-APPLE-STRUCTURED-LOCATION;VALUE=URI;X-ADDRESS=1000 Seabreeze Boulevard\, 
 Fort Lauderdale\, Florida\, 33316\, United States;X-APPLE-RADIUS=100;X-TIT
 LE=Fort Lauderdale Beach Park:geo:26.110613,-80.10585200000003
END:VEVENT
BEGIN:VTIMEZONE
TZID:America/New_York
X-LIC-LOCATION:America/New_York
BEGIN:STANDARD
DTSTART:20171105T010000
TZOFFSETFROM:-0400
TZOFFSETTO:-0500
TZNAME:EST
END:STANDARD
END:VTIMEZONE
END:VCALENDAR