BEGIN:VCALENDAR
VERSION:2.0
PRODID:-//wp-events-plugin.com//7.2.3.1//EN
TZID:America/New_York
X-WR-TIMEZONE:America/New_York
BEGIN:VEVENT
UID:13240@goriverwalk.com
DTSTART;TZID=America/New_York:20220125T180000
DTEND;TZID=America/New_York:20220125T193000
DTSTAMP:20220120T144350Z
URL:https://www.goriverwalk.com/greater-fort-lauderdale-events/prevention-
 through-balance-webinar
SUMMARY:Prevention through Balance Webinar
DESCRIPTION:For parents and teens
ATTACH;FMTTYPE=image/jpeg:https://www.goriverwalk.com/wp-content/uploads/2
 021/02/United-way-of-broward-county-logo-sq.jpg
CATEGORIES:Community,Education,Health
END:VEVENT
BEGIN:VTIMEZONE
TZID:America/New_York
X-LIC-LOCATION:America/New_York
BEGIN:STANDARD
DTSTART:20211107T010000
TZOFFSETFROM:-0400
TZOFFSETTO:-0500
TZNAME:EST
END:STANDARD
END:VTIMEZONE
END:VCALENDAR