BEGIN:VCALENDAR
VERSION:2.0
PRODID:-//wp-events-plugin.com//7.2.3.1//EN
TZID:America/New_York
X-WR-TIMEZONE:America/New_York
BEGIN:VEVENT
UID:6095@goriverwalk.com
DTSTART;TZID=America/New_York:20181117T201500
DTEND;TZID=America/New_York:20181117T230000
DTSTAMP:20181025T144913Z
URL:https://www.goriverwalk.com/greater-fort-lauderdale-events/preservatio
 n-hall-all-stars-concert
SUMMARY:Preservation Hall All-Stars Concert
DESCRIPTION:Great New Orleans style jazz
ATTACH;FMTTYPE=image/jpeg:https://www.goriverwalk.com/wp-content/uploads/2
 018/10/AllStars_Reduced.jpg
CATEGORIES:Music
LOCATION:David Posnack Jewish Community Center\, 5850 S Pine Island Road\, 
 Davie\, Florida\, 33328\, United States
GEO:26.0474866;-80.25737900000001
X-APPLE-STRUCTURED-LOCATION;VALUE=URI;X-ADDRESS=5850 S Pine Island Road\, D
 avie\, Florida\, 33328\, United States;X-APPLE-RADIUS=100;X-TITLE=David Po
 snack Jewish Community Center:geo:26.0474866,-80.25737900000001
END:VEVENT
BEGIN:VTIMEZONE
TZID:America/New_York
X-LIC-LOCATION:America/New_York
BEGIN:STANDARD
DTSTART:20181104T010000
TZOFFSETFROM:-0400
TZOFFSETTO:-0500
TZNAME:EST
END:STANDARD
END:VTIMEZONE
END:VCALENDAR