BEGIN:VCALENDAR
VERSION:2.0
PRODID:-//wp-events-plugin.com//7.2.3.1//EN
TZID:America/New_York
X-WR-TIMEZONE:America/New_York
BEGIN:VEVENT
UID:7315@goriverwalk.com
DTSTART;TZID=America/New_York:20190509T200000
DTEND;TZID=America/New_York:20190509T213000
DTSTAMP:20190501T161038Z
URL:https://www.goriverwalk.com/greater-fort-lauderdale-events/precious-li
 ttle
SUMMARY:Precious Little
DESCRIPTION:Preview performance
ATTACH;FMTTYPE=image/jpeg:https://www.goriverwalk.com/wp-content/uploads/2
 017/11/Default-calendar.jpg
CATEGORIES:Theater
LOCATION:The Vanguard Sanctuary for the Arts\, 1501 S Andrews Ave\, Fort La
 uderdale\, FL\, 33316\, United States
GEO:26.1030323;-80.14305279999996
X-APPLE-STRUCTURED-LOCATION;VALUE=URI;X-ADDRESS=1501 S Andrews Ave\, Fort L
 auderdale\, FL\, 33316\, United States;X-APPLE-RADIUS=100;X-TITLE=The Vang
 uard Sanctuary for the Arts:geo:26.1030323,-80.14305279999996
END:VEVENT
BEGIN:VTIMEZONE
TZID:America/New_York
X-LIC-LOCATION:America/New_York
BEGIN:DAYLIGHT
DTSTART:20190310T030000
TZOFFSETFROM:-0500
TZOFFSETTO:-0400
TZNAME:EDT
END:DAYLIGHT
END:VTIMEZONE
END:VCALENDAR