BEGIN:VCALENDAR
VERSION:2.0
PRODID:-//wp-events-plugin.com//7.2.3.1//EN
TZID:America/New_York
X-WR-TIMEZONE:America/New_York
BEGIN:VEVENT
UID:11857@goriverwalk.com
DTSTART;TZID=America/New_York:20210915T100000
DTEND;TZID=America/New_York:20211027T113000
DTSTAMP:20210902T155449Z
URL:https://www.goriverwalk.com/greater-fort-lauderdale-events/powerful-to
 ols-for-caregivers-workshop
SUMMARY:Powerful Tools for Caregivers Workshop
DESCRIPTION:Learn to care for you and your loved one
ATTACH;FMTTYPE=image/jpeg:https://www.goriverwalk.com/wp-content/uploads/2
 021/09/work-logo-2-2.png
CATEGORIES:Education,Health
END:VEVENT
BEGIN:VTIMEZONE
TZID:America/New_York
X-LIC-LOCATION:America/New_York
BEGIN:DAYLIGHT
DTSTART:20210314T030000
TZOFFSETFROM:-0500
TZOFFSETTO:-0400
TZNAME:EDT
END:DAYLIGHT
END:VTIMEZONE
END:VCALENDAR