BEGIN:VCALENDAR
VERSION:2.0
PRODID:-//wp-events-plugin.com//7.2.3.1//EN
TZID:America/New_York
X-WR-TIMEZONE:America/New_York
BEGIN:VEVENT
UID:10285@goriverwalk.com
DTSTART;TZID=America/New_York:20201023T180000
DTEND;TZID=America/New_York:20201023T180000
DTSTAMP:20201015T175303Z
URL:https://www.goriverwalk.com/greater-fort-lauderdale-events/plunge-into
 -the-arts-zoom-experience
SUMMARY:Plunge Into The Arts: Zoom Experience
DESCRIPTION:With artist Vicki Rosenthal
ATTACH;FMTTYPE=image/jpeg:https://www.goriverwalk.com/wp-content/uploads/2
 020/10/plunge-rosenthal-e1602784367387.jpg
CATEGORIES:Art,Community
END:VEVENT
BEGIN:VTIMEZONE
TZID:America/New_York
X-LIC-LOCATION:America/New_York
BEGIN:DAYLIGHT
DTSTART:20200308T030000
TZOFFSETFROM:-0500
TZOFFSETTO:-0400
TZNAME:EDT
END:DAYLIGHT
END:VTIMEZONE
END:VCALENDAR