BEGIN:VCALENDAR
VERSION:2.0
PRODID:-//wp-events-plugin.com//7.2.3.1//EN
TZID:America/New_York
X-WR-TIMEZONE:America/New_York
BEGIN:VEVENT
UID:20507@goriverwalk.com
DTSTART;TZID=America/New_York:20250228T183000
DTEND;TZID=America/New_York:20250228T200000
DTSTAMP:20250225T191039Z
URL:https://www.goriverwalk.com/greater-fort-lauderdale-events/plunge-into
 -the-arts-artist-open-house
SUMMARY:Plunge into the Arts - Artist Open House
DESCRIPTION:Presenting Karen Tondiglia\, Shahina Siddiqi and Michael Mills
ATTACH;FMTTYPE=image/jpeg:https://www.goriverwalk.com/wp-content/uploads/2
 025/02/PlungeBeachResortLobbyGallery-150KB.jpeg
CATEGORIES:Art,Cocktail,Community,Cultural,Free
LOCATION:Plunge Beach Resort\, 4660 El Mar Drive\, Lauderdale-by-the-Sea\, 
 FL\, 33308\, United States
X-APPLE-STRUCTURED-LOCATION;VALUE=URI;X-ADDRESS=4660 El Mar Drive\, Lauderd
 ale-by-the-Sea\, FL\, 33308\, United States;X-APPLE-RADIUS=100;X-TITLE=Plu
 nge Beach Resort:geo:0,0
END:VEVENT
BEGIN:VTIMEZONE
TZID:America/New_York
X-LIC-LOCATION:America/New_York
BEGIN:STANDARD
DTSTART:20241103T010000
TZOFFSETFROM:-0400
TZOFFSETTO:-0500
TZNAME:EST
END:STANDARD
END:VTIMEZONE
END:VCALENDAR