BEGIN:VCALENDAR
VERSION:2.0
PRODID:-//wp-events-plugin.com//7.2.3.1//EN
TZID:America/New_York
X-WR-TIMEZONE:America/New_York
BEGIN:VEVENT
UID:15588@goriverwalk.com
DTSTART;TZID=America/New_York:20221122T180000
DTEND;TZID=America/New_York:20221122T193000
DTSTAMP:20221110T183910Z
URL:https://www.goriverwalk.com/greater-fort-lauderdale-events/plunge-into
 -the-arts-11
SUMMARY:Plunge Into The Arts
DESCRIPTION: with Josh Alleman
ATTACH;FMTTYPE=image/jpeg:https://www.goriverwalk.com/wp-content/uploads/2
 022/11/Screen-Shot-2022-11-10-at-1.17.29-PM.png
CATEGORIES:Art
LOCATION:Plunge Beach Resort\, 4660 El Mar Drive\, Lauderdale-by-the-Sea\, 
 FL\, 33308\, United States
X-APPLE-STRUCTURED-LOCATION;VALUE=URI;X-ADDRESS=4660 El Mar Drive\, Lauderd
 ale-by-the-Sea\, FL\, 33308\, United States;X-APPLE-RADIUS=100;X-TITLE=Plu
 nge Beach Resort:geo:0,0
END:VEVENT
BEGIN:VTIMEZONE
TZID:America/New_York
X-LIC-LOCATION:America/New_York
BEGIN:STANDARD
DTSTART:20221106T010000
TZOFFSETFROM:-0400
TZOFFSETTO:-0500
TZNAME:EST
END:STANDARD
END:VTIMEZONE
END:VCALENDAR