BEGIN:VCALENDAR
VERSION:2.0
PRODID:-//wp-events-plugin.com//7.2.3.1//EN
TZID:America/New_York
X-WR-TIMEZONE:America/New_York
BEGIN:VEVENT
UID:21998@goriverwalk.com
DTSTART;TZID=America/New_York:20260207T110000
DTEND;TZID=America/New_York:20260208T190000
DTSTAMP:20260115T185953Z
URL:https://www.goriverwalk.com/greater-fort-lauderdale-events/pizza-fest-
 at-the-park
SUMMARY:Pizza Fest at the Park
DESCRIPTION:Celebrating the art of pizza in the heart of Fort Lauderdale\n
ATTACH;FMTTYPE=image/jpeg:https://www.goriverwalk.com/wp-content/uploads/2
 026/01/2.7.26-Pizza-Fest-Logo.jpeg
CATEGORIES:Cocktail,Community,Cultural,Food
LOCATION:Esplande Park\, 400 SW 2nd St\, Fort Lauderdale\, FL\, 33301\, Uni
 ted States
X-APPLE-STRUCTURED-LOCATION;VALUE=URI;X-ADDRESS=400 SW 2nd St\, Fort Lauder
 dale\, FL\, 33301\, United States;X-APPLE-RADIUS=100;X-TITLE=Esplande Park
 :geo:0,0
END:VEVENT
BEGIN:VTIMEZONE
TZID:America/New_York
X-LIC-LOCATION:America/New_York
BEGIN:STANDARD
DTSTART:20251102T010000
TZOFFSETFROM:-0400
TZOFFSETTO:-0500
TZNAME:EST
END:STANDARD
END:VTIMEZONE
END:VCALENDAR