BEGIN:VCALENDAR
VERSION:2.0
PRODID:-//wp-events-plugin.com//7.2.3.1//EN
TZID:America/New_York
X-WR-TIMEZONE:America/New_York
BEGIN:VEVENT
UID:73@goriverwalk.com
DTSTART;TZID=America/New_York:20160105T173000
DTEND;TZID=America/New_York:20160105T190000
DTSTAMP:20151204T220001Z
URL:https://www.goriverwalk.com/greater-fort-lauderdale-events/pinion-pass
 ion-hour
SUMMARY:Pinion Passion Hour
DESCRIPTION:Proceeds from this event benefit Special Olympics Broward Count
 y and its Athletes.
ATTACH;FMTTYPE=image/jpeg:https://www.goriverwalk.com/wp-content/uploads/2
 015/12/Default-calendar.jpg
CATEGORIES:Food
LOCATION:Morton's The Steakhouse\, 500 East Broward Boulevard\, Fort Lauder
 dale \, FL\, 33394\, United States
GEO:26.121951;-80.138418
X-APPLE-STRUCTURED-LOCATION;VALUE=URI;X-ADDRESS=500 East Broward Boulevard\
 , Fort Lauderdale \, FL\, 33394\, United States;X-APPLE-RADIUS=100;X-TITLE
 =Morton's The Steakhouse:geo:26.121951,-80.138418
END:VEVENT
BEGIN:VTIMEZONE
TZID:America/New_York
X-LIC-LOCATION:America/New_York
BEGIN:STANDARD
DTSTART:20151101T010000
TZOFFSETFROM:-0400
TZOFFSETTO:-0500
TZNAME:EST
END:STANDARD
END:VTIMEZONE
END:VCALENDAR