BEGIN:VCALENDAR
VERSION:2.0
PRODID:-//wp-events-plugin.com//7.2.3.1//EN
TZID:America/New_York
X-WR-TIMEZONE:America/New_York
BEGIN:VEVENT
UID:8401@goriverwalk.com
DTSTART;TZID=America/New_York:20191105T173000
DTEND;TZID=America/New_York:20191105T190000
DTSTAMP:20191014T144900Z
URL:https://www.goriverwalk.com/greater-fort-lauderdale-events/pinion-pass
 ion-happy-hour-2
SUMMARY:Pinion Passion Happy Hour
DESCRIPTION:Raising funds and awareness of Special Olympics
ATTACH;FMTTYPE=image/jpeg:https://www.goriverwalk.com/wp-content/uploads/2
 017/11/Default-calendar.jpg
CATEGORIES:Comedy,Fundraiser
LOCATION:Even Keel\, 4100 N. Federal Highway\, Fort Lauderdale\, FL\, 33308
 \, United States
X-APPLE-STRUCTURED-LOCATION;VALUE=URI;X-ADDRESS=4100 N. Federal Highway\, F
 ort Lauderdale\, FL\, 33308\, United States;X-APPLE-RADIUS=100;X-TITLE=Eve
 n Keel:geo:0,0
END:VEVENT
BEGIN:VTIMEZONE
TZID:America/New_York
X-LIC-LOCATION:America/New_York
BEGIN:STANDARD
DTSTART:20191103T010000
TZOFFSETFROM:-0400
TZOFFSETTO:-0500
TZNAME:EST
END:STANDARD
END:VTIMEZONE
END:VCALENDAR