BEGIN:VCALENDAR
VERSION:2.0
PRODID:-//wp-events-plugin.com//7.2.3.1//EN
TZID:America/New_York
X-WR-TIMEZONE:America/New_York
BEGIN:VEVENT
UID:5560@goriverwalk.com
DTSTART;TZID=America/New_York:20181005T110000
DTEND;TZID=America/New_York:20181005T140000
DTSTAMP:20180807T184720Z
URL:https://www.goriverwalk.com/greater-fort-lauderdale-events/pinion-love
 s-paris
SUMMARY:Pinion Loves Paris
DESCRIPTION:Raising money for Special Olympics
ATTACH;FMTTYPE=image/jpeg:https://www.goriverwalk.com/wp-content/uploads/2
 018/08/pinion-loves-paris.jpg
CATEGORIES:Cocktail,Fundraiser
LOCATION:Blue Martini and Capital Grille at the Galleria Mall\, 2432 E Sunr
 ise Boulevard\, Fort Lauderdale\, Florida\, 33304\, United States
GEO:26.13782;-80.11480039999998
X-APPLE-STRUCTURED-LOCATION;VALUE=URI;X-ADDRESS=2432 E Sunrise Boulevard\, 
 Fort Lauderdale\, Florida\, 33304\, United States;X-APPLE-RADIUS=100;X-TIT
 LE=Blue Martini and Capital Grille at the Galleria Mall:geo:26.13782,-80.1
 1480039999998
END:VEVENT
BEGIN:VTIMEZONE
TZID:America/New_York
X-LIC-LOCATION:America/New_York
BEGIN:DAYLIGHT
DTSTART:20180311T030000
TZOFFSETFROM:-0500
TZOFFSETTO:-0400
TZNAME:EDT
END:DAYLIGHT
END:VTIMEZONE
END:VCALENDAR