BEGIN:VCALENDAR
VERSION:2.0
PRODID:-//wp-events-plugin.com//7.2.3.1//EN
TZID:America/New_York
X-WR-TIMEZONE:America/New_York
BEGIN:VEVENT
UID:15385@goriverwalk.com
DTSTART;TZID=America/New_York:20221203T200000
DTEND;TZID=America/New_York:20221203T200000
DTSTAMP:20221020T182150Z
URL:https://www.goriverwalk.com/greater-fort-lauderdale-events/peace-on-ea
 rth
SUMMARY:PEACE ON EARTH
DESCRIPTION:Featuring holiday selections
ATTACH;FMTTYPE=image/jpeg:https://www.goriverwalk.com/wp-content/uploads/2
 022/10/12.3.22-Peace-on-Earth.jpg
CATEGORIES:Holiday,Music
LOCATION:UCC Fort Lauderdale\, 2501 NE 30th St\, Fort Lauderdale\, FL\, 333
 06\, United States
X-APPLE-STRUCTURED-LOCATION;VALUE=URI;X-ADDRESS=2501 NE 30th St\, Fort Laud
 erdale\, FL\, 33306\, United States;X-APPLE-RADIUS=100;X-TITLE=UCC Fort La
 uderdale:geo:0,0
END:VEVENT
BEGIN:VTIMEZONE
TZID:America/New_York
X-LIC-LOCATION:America/New_York
BEGIN:STANDARD
DTSTART:20221106T010000
TZOFFSETFROM:-0400
TZOFFSETTO:-0500
TZNAME:EST
END:STANDARD
END:VTIMEZONE
END:VCALENDAR