BEGIN:VCALENDAR
VERSION:2.0
PRODID:-//wp-events-plugin.com//7.2.3.1//EN
TZID:America/New_York
X-WR-TIMEZONE:America/New_York
BEGIN:VEVENT
UID:14265@goriverwalk.com
DTSTART;TZID=America/New_York;VALUE=DATE:20220806
DTEND;TZID=America/New_York;VALUE=DATE:20220808
DTSTAMP:20220603T175544Z
URL:https://www.goriverwalk.com/greater-fort-lauderdale-events/paw-patrol-
 live-the-great-pirate-adventure
SUMMARY:PAW Patrol Live! The Great Pirate Adventure!
DESCRIPTION:It's Pirate Day in Adventure Bay!
ATTACH;FMTTYPE=image/jpeg:https://www.goriverwalk.com/wp-content/uploads/2
 022/06/PawPatrol-e1654278891975.jpg
CATEGORIES:Theater
LOCATION:Broward Center for the Performing Arts\, 201 SW 5th Avenue\, Fort 
 Lauderdale\, FL\, 33312\, United States
GEO:26.1198743;-80.14926960000003
X-APPLE-STRUCTURED-LOCATION;VALUE=URI;X-ADDRESS=201 SW 5th Avenue\, Fort La
 uderdale\, FL\, 33312\, United States;X-APPLE-RADIUS=100;X-TITLE=Broward C
 enter for the Performing Arts:geo:26.1198743,-80.14926960000003
END:VEVENT
BEGIN:VTIMEZONE
TZID:America/New_York
X-LIC-LOCATION:America/New_York
BEGIN:DAYLIGHT
DTSTART:20220313T030000
TZOFFSETFROM:-0500
TZOFFSETTO:-0400
TZNAME:EDT
END:DAYLIGHT
END:VTIMEZONE
END:VCALENDAR