BEGIN:VCALENDAR
VERSION:2.0
PRODID:-//wp-events-plugin.com//7.2.3.1//EN
TZID:America/New_York
X-WR-TIMEZONE:America/New_York
BEGIN:VEVENT
UID:16674@goriverwalk.com
DTSTART;TZID=America/New_York:20230411T180000
DTEND;TZID=America/New_York:20230411T200000
DTSTAMP:20230324T125556Z
URL:https://www.goriverwalk.com/greater-fort-lauderdale-events/paul-mcderm
 ott
SUMMARY:Paul McDermott
DESCRIPTION:New photo exhibition
ATTACH;FMTTYPE=image/jpeg:https://www.goriverwalk.com/wp-content/uploads/2
 023/03/pauliseverywhereopeningapril112023_700px.jpg
CATEGORIES:Art,Cultural
LOCATION:ArtServe\, 1350 E. Sunrise Blvd.\, Fort Lauderdale\, FL\, 33304\, 
 Broward\, United States
GEO:26.136778;-80.1302407
X-APPLE-STRUCTURED-LOCATION;VALUE=URI;X-ADDRESS=1350 E. Sunrise Blvd.\, For
 t Lauderdale\, FL\, 33304\, Broward\, United States;X-APPLE-RADIUS=100;X-T
 ITLE=ArtServe:geo:26.136778,-80.1302407
END:VEVENT
BEGIN:VTIMEZONE
TZID:America/New_York
X-LIC-LOCATION:America/New_York
BEGIN:DAYLIGHT
DTSTART:20230312T030000
TZOFFSETFROM:-0500
TZOFFSETTO:-0400
TZNAME:EDT
END:DAYLIGHT
END:VTIMEZONE
END:VCALENDAR